BEGIN:VCALENDAR
VERSION:2.0
PRODID:-//OmniMagnetCalendar//EN
BEGIN:VEVENT
DTSTAMP:20190625T195740Z
STATUS:CONFIRMED
UID:houston.illiniclub.org736
DTSTART:20260313T183000Z
DTEND:20260313T210000Z
LOCATION:Jake’s Sports Bar, 2944 Chimney Rock, Houston, TX, 77056, USA,
SUMMARY:Join us at Jake’s on Friday, 3/13 at 1:30 pm for Illinois in the B1G Tournament! 🏀
DESCRIPTION:Join us at Jake’s on Friday, 3/13 at 1:30 pm for Illinois in the B1G Tournament! 🏀
BEGIN:VALARM
TRIGGER:-PT15M
ACTION:DISPLAY
END:VALARM
TRANSP:OPAQUE
END:VEVENT
END:VCALENDAR
